BEGIN:VCALENDAR
VERSION:2.0
PRODID:-//Randonneurs du XIème - ECPv6.15.20//NONSGML v1.0//EN
CALSCALE:GREGORIAN
METHOD:PUBLISH
X-WR-CALNAME:Randonneurs du XIème
X-ORIGINAL-URL:https://randonneursdu11eme.org
X-WR-CALDESC:Évènements pour Randonneurs du XIème
REFRESH-INTERVAL;VALUE=DURATION:PT1H
X-Robots-Tag:noindex
X-PUBLISHED-TTL:PT1H
BEGIN:VTIMEZONE
TZID:Europe/Paris
BEGIN:DAYLIGHT
TZOFFSETFROM:+0100
TZOFFSETTO:+0200
TZNAME:CEST
DTSTART:20230326T010000
END:DAYLIGHT
BEGIN:STANDARD
TZOFFSETFROM:+0200
TZOFFSETTO:+0100
TZNAME:CET
DTSTART:20231029T010000
END:STANDARD
BEGIN:DAYLIGHT
TZOFFSETFROM:+0100
TZOFFSETTO:+0200
TZNAME:CEST
DTSTART:20240331T010000
END:DAYLIGHT
BEGIN:STANDARD
TZOFFSETFROM:+0200
TZOFFSETTO:+0100
TZNAME:CET
DTSTART:20241027T010000
END:STANDARD
BEGIN:DAYLIGHT
TZOFFSETFROM:+0100
TZOFFSETTO:+0200
TZNAME:CEST
DTSTART:20250330T010000
END:DAYLIGHT
BEGIN:STANDARD
TZOFFSETFROM:+0200
TZOFFSETTO:+0100
TZNAME:CET
DTSTART:20251026T010000
END:STANDARD
END:VTIMEZONE
BEGIN:VEVENT
DTSTART;TZID=Europe/Paris:20240901T073000
DTEND;TZID=Europe/Paris:20240901T073000
DTSTAMP:20260424T010803
CREATED:20241015T200816Z
LAST-MODIFIED:20241015T200816Z
UID:17073-1725175800-1725175800@randonneursdu11eme.org
SUMMARY:De Dourdan à Rambouillet
DESCRIPTION:Par Emmanuel. 23 km. RDV à 7h30 gare d’Austerlitz grandes lignes. Départ à 7h47 vers Chateaudun pour Dourdan (41′). Retour de Rambouillet à -h17 pour Gare Montparnasse en 33′.
URL:https://randonneursdu11eme.org/evenement/de-dourdan-a-rambouillet/
END:VEVENT
BEGIN:VEVENT
DTSTART;TZID=Europe/Paris:20240907T074900
DTEND;TZID=Europe/Paris:20240907T074900
DTSTAMP:20260424T010803
CREATED:20241015T200816Z
LAST-MODIFIED:20241015T200816Z
UID:17074-1725695340-1725695340@randonneursdu11eme.org
SUMMARY:La butte de Doue
DESCRIPTION:Par Bernard. 26 km. Départ à 7h49 de gare de l’Est vers Château-Thierry pour La Ferté-sous-Jouarre en 42’. Retour de Coulommiers à 16h38 en 1h10.
URL:https://randonneursdu11eme.org/evenement/la-butte-de-doue/
END:VEVENT
BEGIN:VEVENT
DTSTART;TZID=Europe/Paris:20240915T081500
DTEND;TZID=Europe/Paris:20240915T081500
DTSTAMP:20260424T010803
CREATED:20241015T200816Z
LAST-MODIFIED:20241015T200816Z
UID:17077-1726388100-1726388100@randonneursdu11eme.org
SUMMARY:De St Rémy-les-Chevreuse aux Essarts-le-Roi
DESCRIPTION:Par Emmanuel. 20 km. RDV à 8h15 à Denfert Rochereau sur le quai du RER B vers St Rémy les Chevreuse. Départ à 8h35 en 45′. Retour des Essarts-le-Roi pour Montparnasse à -h55 (~1h).
URL:https://randonneursdu11eme.org/evenement/de-st-remy-les-chevreuse-aux-essarts-le-roi/
END:VEVENT
BEGIN:VEVENT
DTSTART;TZID=Europe/Paris:20240921T073000
DTEND;TZID=Europe/Paris:20240921T073000
DTSTAMP:20260424T010803
CREATED:20241015T200818Z
LAST-MODIFIED:20250915T093840Z
UID:17078-1726903800-1726903800@randonneursdu11eme.org
SUMMARY:La Bossapas\, 15ème édition
DESCRIPTION:Par Externe. 27 km ou 37 km. Boucle depuis la gare de Chaville Rive-Droite\, via Fausses-Reposes\, Meudon et Clamart. Départ entre 7h30 & 8h30. Organisé par le comité FFRP 92. 8 € si licencié jusqu’au 19/09. Renseignement\, tarifs et inscription ici
URL:https://randonneursdu11eme.org/evenement/la-bossapas-15eme-edition/
END:VEVENT
END:VCALENDAR