BEGIN:VCALENDAR
VERSION:2.0
PRODID:-//Randonneurs du XIème - ECPv6.15.20//NONSGML v1.0//EN
CALSCALE:GREGORIAN
METHOD:PUBLISH
X-ORIGINAL-URL:https://randonneursdu11eme.org
X-WR-CALDESC:Évènements pour Randonneurs du XIème
REFRESH-INTERVAL;VALUE=DURATION:PT1H
X-Robots-Tag:noindex
X-PUBLISHED-TTL:PT1H
BEGIN:VTIMEZONE
TZID:Europe/Paris
BEGIN:DAYLIGHT
TZOFFSETFROM:+0100
TZOFFSETTO:+0200
TZNAME:CEST
DTSTART:20230326T010000
END:DAYLIGHT
BEGIN:STANDARD
TZOFFSETFROM:+0200
TZOFFSETTO:+0100
TZNAME:CET
DTSTART:20231029T010000
END:STANDARD
BEGIN:DAYLIGHT
TZOFFSETFROM:+0100
TZOFFSETTO:+0200
TZNAME:CEST
DTSTART:20240331T010000
END:DAYLIGHT
BEGIN:STANDARD
TZOFFSETFROM:+0200
TZOFFSETTO:+0100
TZNAME:CET
DTSTART:20241027T010000
END:STANDARD
BEGIN:DAYLIGHT
TZOFFSETFROM:+0100
TZOFFSETTO:+0200
TZNAME:CEST
DTSTART:20250330T010000
END:DAYLIGHT
BEGIN:STANDARD
TZOFFSETFROM:+0200
TZOFFSETTO:+0100
TZNAME:CET
DTSTART:20251026T010000
END:STANDARD
END:VTIMEZONE
BEGIN:VEVENT
DTSTART;TZID=Europe/Paris:20241102T080000
DTEND;TZID=Europe/Paris:20241102T080000
DTSTAMP:20260423T221818
CREATED:20241025T180810Z
LAST-MODIFIED:20241025T180810Z
UID:17114-1730534400-1730534400@randonneursdu11eme.org
SUMMARY:De Moret à Fontainebleau
DESCRIPTION:Par Bernard. 22 km via la Mare aux Fées et le Rocher des Demoiselles. RDV à 8h00 Gare de Lyon hall 1. Départ à 8h16 vers Montargis pour Moret-Veneux-les-Sablons (51’). Retour à 15h32’ de Fontainebleau (en 49’).
URL:https://randonneursdu11eme.org/evenement/de-moret-a-fontainebleau/
END:VEVENT
BEGIN:VEVENT
DTSTART;TZID=Europe/Paris:20241103T074000
DTEND;TZID=Europe/Paris:20241103T074000
DTSTAMP:20260423T221818
CREATED:20241025T180810Z
LAST-MODIFIED:20241025T180810Z
UID:17115-1730619600-1730619600@randonneursdu11eme.org
SUMMARY:Boucle autour de Dourdan et la vallée de l'Orge
DESCRIPTION:Par Emmanuel. 22 km. RDV à 7h40 gare d’Austerlitz grandes lignes\, au début du quai 10. Départ à 7h56 par TER vers Châteaudun pour Dourdan en 33′. Retour à -h07 ou -h37 par RER C en 1h06.
URL:https://randonneursdu11eme.org/evenement/boucle-autour-de-dourdan-et-la-vallee-de-lorge/
END:VEVENT
BEGIN:VEVENT
DTSTART;TZID=Europe/Paris:20241124T081900
DTEND;TZID=Europe/Paris:20241124T081900
DTSTAMP:20260423T221818
CREATED:20241025T180812Z
LAST-MODIFIED:20241118T104231Z
UID:17119-1732436340-1732436340@randonneursdu11eme.org
SUMMARY:Rando pour les buttes
DESCRIPTION:Par Daniel. 25 km ↑500m d’ Épinay-sur-Seine à Conflans-Ste-Honorine (possibilité raccourcir à 17 km) RdV à 8h19 gare du Nord. Départ à 8h34 vers Persan jusqu’à Epinay-Villetaneuse\, puis tram T11 jusqu’à Épinay-sur-Seine (8h58). Retour depuis Conflans-fin-d’Oise RER A au plus tard 16h57 vers Paris en 33’.
URL:https://randonneursdu11eme.org/evenement/rando-pour-les-buttes/
END:VEVENT
BEGIN:VEVENT
DTSTART;TZID=Europe/Paris:20241130T074000
DTEND;TZID=Europe/Paris:20241130T074000
DTSTAMP:20260423T221818
CREATED:20241025T180812Z
LAST-MODIFIED:20241025T180812Z
UID:17120-1732952400-1732952400@randonneursdu11eme.org
SUMMARY:De L'Isle-Adam-Parmain à Ecouen-Ezanville
DESCRIPTION:Par Sébastien. 26 km. RDV à 7h40 à Gare du Nord. Départ à 7h56 vers Persan-Beaumont pour L’Isle-Adam-Parmain (Arrivée à 8h45). Retour depuis Ecouen-Ezanville à -h02 ou -h32 en 22′.
URL:https://randonneursdu11eme.org/evenement/de-lisle-adam-parmain-a-ecouen-ezanville/
END:VEVENT
END:VCALENDAR