BEGIN:VCALENDAR
VERSION:2.0
PRODID:-//Randonneurs du XIème - ECPv6.15.20//NONSGML v1.0//EN
CALSCALE:GREGORIAN
METHOD:PUBLISH
X-ORIGINAL-URL:https://randonneursdu11eme.org
X-WR-CALDESC:Évènements pour Randonneurs du XIème
REFRESH-INTERVAL;VALUE=DURATION:PT1H
X-Robots-Tag:noindex
X-PUBLISHED-TTL:PT1H
BEGIN:VTIMEZONE
TZID:Europe/Paris
BEGIN:DAYLIGHT
TZOFFSETFROM:+0100
TZOFFSETTO:+0200
TZNAME:CEST
DTSTART:20230326T010000
END:DAYLIGHT
BEGIN:STANDARD
TZOFFSETFROM:+0200
TZOFFSETTO:+0100
TZNAME:CET
DTSTART:20231029T010000
END:STANDARD
BEGIN:DAYLIGHT
TZOFFSETFROM:+0100
TZOFFSETTO:+0200
TZNAME:CEST
DTSTART:20240331T010000
END:DAYLIGHT
BEGIN:STANDARD
TZOFFSETFROM:+0200
TZOFFSETTO:+0100
TZNAME:CET
DTSTART:20241027T010000
END:STANDARD
BEGIN:DAYLIGHT
TZOFFSETFROM:+0100
TZOFFSETTO:+0200
TZNAME:CEST
DTSTART:20250330T010000
END:DAYLIGHT
BEGIN:STANDARD
TZOFFSETFROM:+0200
TZOFFSETTO:+0100
TZNAME:CET
DTSTART:20251026T010000
END:STANDARD
END:VTIMEZONE
BEGIN:VEVENT
DTSTART;TZID=Europe/Paris:20241201T090000
DTEND;TZID=Europe/Paris:20241201T090000
DTSTAMP:20260423T204951
CREATED:20241025T180812Z
LAST-MODIFIED:20241108T142425Z
UID:17121-1733043600-1733043600@randonneursdu11eme.org
SUMMARY:De Fontainebleau à Champagne-sur-Seine
DESCRIPTION:Par Pascal. 20 km. RDV à 9h00 Gare de Lyon voie K vers Montargis. Départ à 9h16 pour Halte en forêt à 9h58. Retour à 16h42 de Champagne sur Seine\, correspondance à Melun (7mn) pour Gare de Lyon à 17h43.
URL:https://randonneursdu11eme.org/evenement/de-fontainebleau-a-champagne-sur-seine/
END:VEVENT
BEGIN:VEVENT
DTSTART;TZID=Europe/Paris:20241214T080400
DTEND;TZID=Europe/Paris:20241214T080400
DTSTAMP:20260423T204951
CREATED:20241122T153727Z
LAST-MODIFIED:20250918T102509Z
UID:17304-1734163440-1734163440@randonneursdu11eme.org
SUMMARY:De Luzarches à Luzarches
DESCRIPTION:Par Rando_XI. 23 km ↑250 m via l’ancienne abbaye d’Hérivaux et le château de la Reine Blanche (pique-nique)Bâtons utiles. RDV Gare du Nord- Niveau Île-de-France\, hall 3B\, devant voie 31.Départ à 8h04 vers Luzarches (en 48’). Retour à -h06.
URL:https://randonneursdu11eme.org/evenement/de-luzarches-a-luzarches/
END:VEVENT
END:VCALENDAR