BEGIN:VCALENDAR
VERSION:2.0
PRODID:-//Randonneurs du XIème - ECPv6.15.20//NONSGML v1.0//EN
CALSCALE:GREGORIAN
METHOD:PUBLISH
X-WR-CALNAME:Randonneurs du XIème
X-ORIGINAL-URL:https://randonneursdu11eme.org
X-WR-CALDESC:Évènements pour Randonneurs du XIème
REFRESH-INTERVAL;VALUE=DURATION:PT1H
X-Robots-Tag:noindex
X-PUBLISHED-TTL:PT1H
BEGIN:VTIMEZONE
TZID:Europe/Paris
BEGIN:DAYLIGHT
TZOFFSETFROM:+0100
TZOFFSETTO:+0200
TZNAME:CEST
DTSTART:20240331T010000
END:DAYLIGHT
BEGIN:STANDARD
TZOFFSETFROM:+0200
TZOFFSETTO:+0100
TZNAME:CET
DTSTART:20241027T010000
END:STANDARD
BEGIN:DAYLIGHT
TZOFFSETFROM:+0100
TZOFFSETTO:+0200
TZNAME:CEST
DTSTART:20250330T010000
END:DAYLIGHT
BEGIN:STANDARD
TZOFFSETFROM:+0200
TZOFFSETTO:+0100
TZNAME:CET
DTSTART:20251026T010000
END:STANDARD
BEGIN:DAYLIGHT
TZOFFSETFROM:+0100
TZOFFSETTO:+0200
TZNAME:CEST
DTSTART:20260329T010000
END:DAYLIGHT
BEGIN:STANDARD
TZOFFSETFROM:+0200
TZOFFSETTO:+0100
TZNAME:CET
DTSTART:20261025T010000
END:STANDARD
END:VTIMEZONE
BEGIN:VEVENT
DTSTART;TZID=Europe/Paris:20250126T090000
DTEND;TZID=Europe/Paris:20250126T090000
DTSTAMP:20260423T192331
CREATED:20241216T143854Z
LAST-MODIFIED:20241216T152358Z
UID:17474-1737882000-1737882000@randonneursdu11eme.org
SUMMARY:De Meudon à St Cloud
DESCRIPTION:Par Pascal. 24 km\, ↑550m. RDV à 9h00 Gare Montparnasse.\nDépart à 9h20 train N ROPO vers Rambouillet arrivée\nMeudon Bellevue à 9h33. Retour de métro pont de St Cloud vers 17h00
URL:https://randonneursdu11eme.org/evenement/de-meudon-a-st-cloud/
END:VEVENT
END:VCALENDAR