BEGIN:VCALENDAR
VERSION:2.0
PRODID:-//Randonneurs du XIème - ECPv6.15.20//NONSGML v1.0//EN
CALSCALE:GREGORIAN
METHOD:PUBLISH
X-WR-CALNAME:Randonneurs du XIème
X-ORIGINAL-URL:https://randonneursdu11eme.org
X-WR-CALDESC:Évènements pour Randonneurs du XIème
REFRESH-INTERVAL;VALUE=DURATION:PT1H
X-Robots-Tag:noindex
X-PUBLISHED-TTL:PT1H
BEGIN:VTIMEZONE
TZID:Europe/Paris
BEGIN:DAYLIGHT
TZOFFSETFROM:+0100
TZOFFSETTO:+0200
TZNAME:CEST
DTSTART:20240331T010000
END:DAYLIGHT
BEGIN:STANDARD
TZOFFSETFROM:+0200
TZOFFSETTO:+0100
TZNAME:CET
DTSTART:20241027T010000
END:STANDARD
BEGIN:DAYLIGHT
TZOFFSETFROM:+0100
TZOFFSETTO:+0200
TZNAME:CEST
DTSTART:20250330T010000
END:DAYLIGHT
BEGIN:STANDARD
TZOFFSETFROM:+0200
TZOFFSETTO:+0100
TZNAME:CET
DTSTART:20251026T010000
END:STANDARD
BEGIN:DAYLIGHT
TZOFFSETFROM:+0100
TZOFFSETTO:+0200
TZNAME:CEST
DTSTART:20260329T010000
END:DAYLIGHT
BEGIN:STANDARD
TZOFFSETFROM:+0200
TZOFFSETTO:+0100
TZNAME:CET
DTSTART:20261025T010000
END:STANDARD
END:VTIMEZONE
BEGIN:VEVENT
DTSTART;TZID=Europe/Paris:20250316T083000
DTEND;TZID=Europe/Paris:20250316T083000
DTSTAMP:20260423T164332
CREATED:20250215T143553Z
LAST-MODIFIED:20250215T143553Z
UID:17959-1742113800-1742113800@randonneursdu11eme.org
SUMMARY:De la vallée de l’Ourcq à la vallée de la Marne
DESCRIPTION:Par Daniel. 25 km\, dénivelé +500m\, RDV Gare de l’Est guichets Transilien\nAller à 8h47 vers Château-Thierry\, chgt au Trilport pour Crouy-sur-Ourcq (9h42)\nRetour de Saacy-sur-Marne à 17h19 pour Gare de l’Est (51′)
URL:https://randonneursdu11eme.org/evenement/de-la-vallee-de-lourcq-a-la-vallee-de-la-marne-2/
END:VEVENT
BEGIN:VEVENT
DTSTART;TZID=Europe/Paris:20250323T083000
DTEND;TZID=Europe/Paris:20250323T083000
DTSTAMP:20260423T164332
CREATED:20250215T144707Z
LAST-MODIFIED:20250215T144707Z
UID:17895-1742718600-1742718600@randonneursdu11eme.org
SUMMARY:De Pontault-Combault à Tournan en Brie
DESCRIPTION:Par Pascal. 24 km RDV Gare du Nord Magenta milieu du quai du RER E vers Tournan\nAller à 8:48 pour Emerainville Pontault-Combault à 9:20\nRetour de Tournan par RER E à 17:23
URL:https://randonneursdu11eme.org/evenement/de-pontault-combault-a-tournan-en-brie/
END:VEVENT
END:VCALENDAR