BEGIN:VCALENDAR
VERSION:2.0
PRODID:-//Randonneurs du XIème - ECPv6.15.20//NONSGML v1.0//EN
CALSCALE:GREGORIAN
METHOD:PUBLISH
X-WR-CALNAME:Randonneurs du XIème
X-ORIGINAL-URL:https://randonneursdu11eme.org
X-WR-CALDESC:Évènements pour Randonneurs du XIème
REFRESH-INTERVAL;VALUE=DURATION:PT1H
X-Robots-Tag:noindex
X-PUBLISHED-TTL:PT1H
BEGIN:VTIMEZONE
TZID:Europe/Paris
BEGIN:DAYLIGHT
TZOFFSETFROM:+0100
TZOFFSETTO:+0200
TZNAME:CEST
DTSTART:20250330T010000
END:DAYLIGHT
BEGIN:STANDARD
TZOFFSETFROM:+0200
TZOFFSETTO:+0100
TZNAME:CET
DTSTART:20251026T010000
END:STANDARD
BEGIN:DAYLIGHT
TZOFFSETFROM:+0100
TZOFFSETTO:+0200
TZNAME:CEST
DTSTART:20260329T010000
END:DAYLIGHT
BEGIN:STANDARD
TZOFFSETFROM:+0200
TZOFFSETTO:+0100
TZNAME:CET
DTSTART:20261025T010000
END:STANDARD
BEGIN:DAYLIGHT
TZOFFSETFROM:+0100
TZOFFSETTO:+0200
TZNAME:CEST
DTSTART:20270328T010000
END:DAYLIGHT
BEGIN:STANDARD
TZOFFSETFROM:+0200
TZOFFSETTO:+0100
TZNAME:CET
DTSTART:20271031T010000
END:STANDARD
END:VTIMEZONE
BEGIN:VEVENT
DTSTART;TZID=Europe/Paris:20260510T075700
DTEND;TZID=Europe/Paris:20260510T075700
DTSTAMP:20260421T114408
CREATED:20260416T154112Z
LAST-MODIFIED:20260416T154112Z
UID:19323-1778399820-1778399820@randonneursdu11eme.org
SUMMARY:Parenthèse inattendue en Gâtinais
DESCRIPTION:Par Daniel. 25 km. Souppes-sur-Loing en boucle par Château-Landon \nRdV 7h57 à gare de Lyon\, hall 1\nAller à 8h12 vers Montargis pour Souppes-sur-Loing (9h34)\nRetour à 16h21 pour gare de Lyon
URL:https://randonneursdu11eme.org/evenement/parenthese-inattendue-en-gatinais/
END:VEVENT
END:VCALENDAR